BEGIN:VCALENDAR
VERSION:2.0
PRODID:-//Date iCal//NONSGML kigkonsult.se iCalcreator 2.20.2//
METHOD:PUBLISH
X-WR-CALNAME;VALUE=TEXT:TSE
BEGIN:VTIMEZONE
TZID:Europe/Paris
BEGIN:STANDARD
DTSTART:20171029T030000
TZOFFSETFROM:+0200
TZOFFSETTO:+0100
TZNAME:CET
END:STANDARD
BEGIN:DAYLIGHT
DTSTART:20180325T020000
TZOFFSETFROM:+0100
TZOFFSETTO:+0200
TZNAME:CEST
END:DAYLIGHT
END:VTIMEZONE
BEGIN:VEVENT
UID:calendar.141174.field_date.0@www.tse-fr.eu
DTSTAMP:20260425T192708Z
CREATED:20260109T151001Z
DESCRIPTION:Jianqing Fan (University of Princeton)\, “To be announced”\, Ec
 onometrics and Empirical Economics Seminar\, TSE\, February 20\, 2018\, 15
 :30–16:50\, room MS 001.
DTSTART;TZID=Europe/Paris:20180220T153000
DTEND;TZID=Europe/Paris:20180220T165000
LAST-MODIFIED:20260113T095129Z
LOCATION:TSE\, February 20\, 2018\, 15:30–16:50\, room MS 001
SUMMARY:Econometrics and Empirical Economics Seminar
URL;TYPE=URI:https://www.tse-fr.eu/seminars/2018-be-announced-1
END:VEVENT
END:VCALENDAR
