BEGIN:VCALENDAR
VERSION:2.0
PRODID:-//Date iCal//NONSGML kigkonsult.se iCalcreator 2.20.2//
METHOD:PUBLISH
X-WR-CALNAME;VALUE=TEXT:TSE
BEGIN:VTIMEZONE
TZID:Europe/Paris
BEGIN:STANDARD
DTSTART:20171029T030000
TZOFFSETFROM:+0200
TZOFFSETTO:+0100
RDATE:20181028T030000
TZNAME:CET
END:STANDARD
BEGIN:DAYLIGHT
DTSTART:20180325T020000
TZOFFSETFROM:+0100
TZOFFSETTO:+0200
TZNAME:CEST
END:DAYLIGHT
END:VTIMEZONE
BEGIN:VEVENT
UID:calendar.141168.field_date.0@www.tse-fr.eu
DTSTAMP:20260425T125414Z
CREATED:20260109T151001Z
DESCRIPTION:Joana Naritomi (London School of Economics)\, “To be announced”
 \, Development\, Labor and Public Policy Seminar\, Toulouse: TSE\, April 5
 \, 2018\, 11:00–12:30\, room MF 323.
DTSTART;TZID=Europe/Paris:20180405T110000
DTEND;TZID=Europe/Paris:20180405T123000
LAST-MODIFIED:20260113T095129Z
LOCATION:Toulouse: TSE\, April 5\, 2018\, 11:00–12:30\, room MF 323
SUMMARY:Development\, Labor and Public Policy Seminar
URL;TYPE=URI:https://www.tse-fr.eu/seminars/2018-be-announced-0
END:VEVENT
END:VCALENDAR
